Workbook
Name OLE_LINK10: '（最終）事業経費執行報告書様式２－１'!#REF!

Sheet 報告書様式1
A1: 報告書様式1
A2: 令和8年度フューチャー・リソース推進プラットフォームプロジェクト 「開拓・萌芽事業／発展・深化事業」 研究成果報告書
B4: 学系： | D4: 部局： | F4: 職名：
A5: 申請区分： | B5: 開拓・萌芽事業 or 発展・深化事業
A6: 研究等テーマ：
A8: 連携自治体/企業等のカウンターパートの獲得： 有 ・ 無
A9: 連携自治体/企業名・担当者等：
C10: =IF($C$3="","",VLOOKUP($C$3,#REF!,2,FALSE)) | D10: =IF($C$3="","",VLOOKUP($C$3,#REF!,2,FALSE)) | E10: =IF($C$3="","",VLOOKUP($C$3,#REF!,2,FALSE)) | F10: =IF($C$3="","",VLOOKUP($C$3,#REF!,2,FALSE)) | G10: =IF($C$3="","",VLOOKUP($C$3,#REF!,2,FALSE))
A11: 研究成果：＊成果の概要をPPT1-2枚で添付のこと（別途様式を案内）
A13: 研究テーマ・研究成果に対する自治体や企業の課題・要望：
A15: 研究成果や自治体や企業の課題・要望を踏まえての今後の取組：

Sheet （最終）事業経費執行報告書様式２－１
A1: 事業経費執行報告書様式２－１
A3: 令和8年度フューチャー・リソース推進プラットフォームプロジェクト 「開拓・萌芽 ／ 発展・深化事業」経費執行内訳
E6: （単位：円）
B7: 事項 | D7: 計画額 | E7: 執行額
B8: 備品費計 | C8: 備品費計 | E8: =VLOOKUP(C8,'（最終）事業経費執行報告書様式２－２'!$A:$E,3,FALSE) -> 0
B9: 消耗品費計 | C9: 消耗品費計 | E9: =VLOOKUP(C9,'（最終）事業経費執行報告書様式２－２'!$A:$E,3,FALSE) -> 0
B10: 旅費計 | C10: 旅費計 | E10: 0
B11: 人件費・謝金計 | C11: 人件費・謝金計 | E11: =VLOOKUP(C11,'（最終）事業経費執行報告書様式２－２'!$A:$E,3,FALSE) -> 0
B12: その他 | C12: 通信費計 | E12: =VLOOKUP(C12,'（最終）事業経費執行報告書様式２－２'!$A:$E,3,FALSE) -> 0
C13: 運搬費計 | E13: =VLOOKUP(C13,'（最終）事業経費執行報告書様式２－２'!$A:$E,3,FALSE) -> 0
C14: 諸会費計 | E14: =VLOOKUP(C14,'（最終）事業経費執行報告書様式２－２'!$A:$E,3,FALSE) -> 0
C15: 会議費計 | E15: =VLOOKUP(C15,'（最終）事業経費執行報告書様式２－２'!$A:$E,3,FALSE) -> 0
C16: 業務委託費計 | E16: =VLOOKUP(C16,'（最終）事業経費執行報告書様式２－２'!$A:$E,3,FALSE) -> 0
C17: 印刷製本費計 | E17: =VLOOKUP(C17,'（最終）事業経費執行報告書様式２－２'!$A:$E,3,FALSE) -> 0
C18: 借損料計 | E18: =VLOOKUP(C18,'（最終）事業経費執行報告書様式２－２'!$A:$E,3,FALSE) -> 0
C19: 雑役務費計 | E19: =VLOOKUP(C19,'（最終）事業経費執行報告書様式２－２'!$A:$E,3,FALSE) -> 0
C20: 光熱水費計 | E20: =VLOOKUP(C20,'（最終）事業経費執行報告書様式２－２'!$A:$E,3,FALSE) -> 0
C21: 支払手数料計 | E21: 0
C22: 雑費計 | E22: =VLOOKUP(C22,'（最終）事業経費執行報告書様式２－２'!$A:$E,3,FALSE) -> 0
C23: 計 | D23: =SUM(D9:D22) -> 0 | E23: =SUM(E8:E22) -> 0

Sheet （最終）事業経費執行報告書様式２－２
A1: 事業経費執行報告書様式２－２
A3: 令和8年度フューチャー・リソース推進プラットフォームプロジェクト 「開拓・萌芽 ／ 発展・深化事業」経費執行内訳 | F3: ←どちらかを選択ください
A6: 項目 | B6: 摘要 | C6: 金額 | D6: 納品日 | E6: 支払年月日
A7: 備品費 | F7: ←記入行を増やす場合は、この行の下に行を挿入してください。
A10: 備品費計 | C10: =SUBTOTAL(9,C7:C9) -> 0
A11: 消耗品費 | F11: ←記入行を増やす場合は、この行の下に行を挿入してください。
A16: 消耗品費計 | C16: =SUBTOTAL(9,C11:C15) -> 0
A17: 旅費 | F17: ←記入行を増やす場合は、この行の下に行を挿入してください。
A20: 旅費計 | C20: =SUBTOTAL(9,C17:C19) -> 0
A21: 人件費・謝金 | F21: ←記入行を増やす場合は、この行の下に行を挿入してください。
A24: 人件費・謝金計 | C24: =SUBTOTAL(9,C21:C23) -> 0
A25: 通信費 | F25: ←記入行を増やす場合は、この行の下に行を挿入してください。
A28: 通信費計 | C28: =SUBTOTAL(9,C25:C27) -> 0
A29: 運搬費 | F29: ←記入行を増やす場合は、この行の下に行を挿入してください。
A32: 運搬費計 | C32: =SUBTOTAL(9,C29:C31) -> 0
A33: 諸会費 | F33: ←記入行を増やす場合は、この行の下に行を挿入してください。
A36: 諸会費計 | C36: =SUBTOTAL(9,C33:C35) -> 0
A37: 会議費 | F37: ←記入行を増やす場合は、この行の下に行を挿入してください。
A40: 会議費計 | C40: =SUBTOTAL(9,C37:C39) -> 0
A41: 業務委託費 | F41: ←記入行を増やす場合は、この行の下に行を挿入してください。
A44: 業務委託費計 | C44: =SUBTOTAL(9,C41:C43) -> 0
A45: 印刷製本費 | F45: ←記入行を増やす場合は、この行の下に行を挿入してください。
A48: 印刷製本費計 | C48: =SUBTOTAL(9,C45:C47) -> 0
A49: 借損料 | F49: ←記入行を増やす場合は、この行の下に行を挿入してください。
A52: 借損料計 | C52: =SUM(C49:C51) -> 0
A53: 雑役務費 | F53: ←記入行を増やす場合は、この行の下に行を挿入してください。
A56: 雑役務費計 | C56: =SUM(C53:C55) -> 0
A57: 光熱水費 | F57: ←記入行を増やす場合は、この行の下に行を挿入してください。
A60: 光熱水費計 | C60: =SUM(C57:C59) -> 0
A61: 支払手数料 | F61: ←記入行を増やす場合は、この行の下に行を挿入してください。
A64: 支払手数料計 | C64: =SUM(C61:C63) -> 0
A65: 雑費 | F65: ←記入行を増やす場合は、この行の下に行を挿入してください。
A68: 雑費計 | C68: =SUM(C65:C67) -> 0
A69: 補助対象経費計 | C69: =SUM(C68,C64,C60,C56,C52,C48,C44,C40,C36,C32,C28,C24,C20,C16,C10) -> 0
